BEGIN:VCALENDAR
VERSION:2.0
PRODID:-//wp-events-plugin.com//7.2.3.1//EN
TZID:America/Vancouver
X-WR-TIMEZONE:America/Vancouver
BEGIN:VEVENT
UID:478@staging.canoecultures.com
DTSTART;TZID=America/Vancouver:20250612T100000
DTEND;TZID=America/Vancouver:20250612T120000
DTSTAMP:20250526T073941Z
URL:https://staging.canoecultures.com/events/canoe-tour-2025-06-12/
SUMMARY:Canoe Tour
DESCRIPTION:Tour requires a minimum of 4 people.\n\nWe will confirm when th
 ere are 4 people on the tour.\n\nBooking will be closed 48 hours before ev
 ent start time.
CATEGORIES:Canoe Tours
LOCATION:Concord Community Park\, 50 Pacific Boulevard\, north of Science W
 orld and Creekside Park\, east of Rogers Arena and Concord Pacific Place\,
  Canada
X-APPLE-STRUCTURED-LOCATION;VALUE=URI;X-ADDRESS=50 Pacific Boulevard\, nort
 h of Science World and Creekside Park\, east of Rogers Arena and Concord P
 acific Place\, Canada;X-APPLE-RADIUS=100;X-TITLE=Concord Community Park:ge
 o:0,0
END:VEVENT
BEGIN:VTIMEZONE
TZID:America/Vancouver
X-LIC-LOCATION:America/Vancouver
BEGIN:DAYLIGHT
DTSTART:20250309T030000
TZOFFSETFROM:-0800
TZOFFSETTO:-0700
TZNAME:PDT
END:DAYLIGHT
END:VTIMEZONE
END:VCALENDAR